BEGIN:VCALENDAR
VERSION:2.0
PRODID:-//Nachhaltigkeitsagenda Ingolstadt - ECPv6.15.20//NONSGML v1.0//EN
CALSCALE:GREGORIAN
METHOD:PUBLISH
X-WR-CALNAME:Nachhaltigkeitsagenda Ingolstadt
X-ORIGINAL-URL:https://nachhaltigkeitsagenda-ingolstadt.de
X-WR-CALDESC:Veranstaltungen für Nachhaltigkeitsagenda Ingolstadt
REFRESH-INTERVAL;VALUE=DURATION:PT1H
X-Robots-Tag:noindex
X-PUBLISHED-TTL:PT1H
BEGIN:VTIMEZONE
TZID:Europe/Berlin
BEGIN:DAYLIGHT
TZOFFSETFROM:+0100
TZOFFSETTO:+0200
TZNAME:CEST
DTSTART:20240331T010000
END:DAYLIGHT
BEGIN:STANDARD
TZOFFSETFROM:+0200
TZOFFSETTO:+0100
TZNAME:CET
DTSTART:20241027T010000
END:STANDARD
BEGIN:DAYLIGHT
TZOFFSETFROM:+0100
TZOFFSETTO:+0200
TZNAME:CEST
DTSTART:20250330T010000
END:DAYLIGHT
BEGIN:STANDARD
TZOFFSETFROM:+0200
TZOFFSETTO:+0100
TZNAME:CET
DTSTART:20251026T010000
END:STANDARD
BEGIN:DAYLIGHT
TZOFFSETFROM:+0100
TZOFFSETTO:+0200
TZNAME:CEST
DTSTART:20260329T010000
END:DAYLIGHT
BEGIN:STANDARD
TZOFFSETFROM:+0200
TZOFFSETTO:+0100
TZNAME:CET
DTSTART:20261025T010000
END:STANDARD
END:VTIMEZONE
BEGIN:VEVENT
DTSTART;TZID=Europe/Berlin:20250310T180000
DTEND;TZID=Europe/Berlin:20250430T123000
DTSTAMP:20260419T170052
CREATED:20250317T121342Z
LAST-MODIFIED:20250317T121501Z
UID:11680-1741629600-1746016200@nachhaltigkeitsagenda-ingolstadt.de
SUMMARY:Ausstellung: Frauen im Widerstand
DESCRIPTION:Spionage\, Flugblätter und gefälschte Papiere\nWie viele Frauen\, die sich gegen das Nationalsozialistische Regime gestellt haben\, kennen Sie? Die Gleichstellungsstelle der Stadt Ingolstadt und das Zentrum für Stadtgeschichte zeigen in Kooperation mit „Omas gegen Rechts“ die Ausstellung: Frauen im Widerstand gegen den Nationalsozialismus. Die Ausstellung stellt zehn Frauen vor\, die jüdischen Bürgerinnen und Bürgern halfen\, gefälschte Papiere besorgten oder Aktionen des Widerstands organisierten. Zwei davon – mit Bezug zur Region Ingolstadt – hat Agnes Krumwiede\, freie Mitarbeiterin beim Projekt „Opfer des Nationalsozialismus“ am Zentrum Stadtgeschichte\, aktuell erforscht. Eingebettet ist die Ausstellung in das FEM*FESTIVAL\, das von 6. bis 16. März ein vielfältiges Programm rund um Feminismus\, Gender und Diversity anbietet. \n			\n				Mehr Informationen zur Ausstellung
URL:https://nachhaltigkeitsagenda-ingolstadt.de/event/ausstellung-frauen-im-widerstand/
LOCATION:Neues Rathaus – Foyer\, Rathausplatz 4\, Ingolstadt\, Bayern\, 85049\, Germany
CATEGORIES:Weitere Veranstaltungen
ATTACH;FMTTYPE=image/jpeg:https://nachhaltigkeitsagenda-ingolstadt.de/wp-content/uploads/2025/03/Logo_Gleichstellungsstelle_IN.jpg
ORGANIZER;CN="Gleichstellungsstelle Ingolstadt":MAILTO:gleichstellungsstelle@ingolstadt.de
END:VEVENT
BEGIN:VEVENT
DTSTART;TZID=Europe/Berlin:20250325T120000
DTEND;TZID=Europe/Berlin:20250325T124500
DTSTAMP:20260419T170052
CREATED:20250218T070005Z
LAST-MODIFIED:20250214T102713Z
UID:11177-1742904000-1742906700@nachhaltigkeitsagenda-ingolstadt.de
SUMMARY:Klima am Mittag – Klimafreundlich Gärtnern
DESCRIPTION:Klima am Mittag – Klimafreundlich Gärtnern\nMit passenden Pflanzen und einfachen Maßnahmen beim Umgang mit dem Boden und der Bewässerung werden Gärten fit für unser künftiges Klima. \nOrt: Umweltstation Ingolstadt\, Ludwigstr. 41\, Ingolstadt \nReihe Klima am Mittag:\nAn sechs Terminen werden über die Mittagspause relevante Themen zu Klimafragen behandelt. Zu allen Veranstaltungen ist eine Anmeldung aus organisatorischen Gründen wünschenswert. Es handelt sich hierbei um eine Kooperation der Stabsstelle Strategien Klima\, Biodiversität & Donau der Stadt Ingolstadt\, der Umweltstation Ingolstadt und der Volkshochschule Ingolstadt. \nMehr zum Thema Klimaschutz und Klimaanpassung der Stadt Ingolstadt ist unter www.2035.de nachzulesen oder folgen Sie einfach dem Instagram Kanal ingolstadt2035. \n			\n				\n				\n				\n				\n				Kursnummer: AU19-220\nKlicken Sie einfach auf den nachfolgenden Button und geben Sie die Kursnummer im Suchfeld ein. \n			\n				Anmeldung\n			\n				\n				\n				\n				\n				Eine Veranstaltung im Rahmen des Kursprogramms zum Themenbereich „Bildung für Nachhaltige Entwicklung“ der Volkshochschule Ingolstadt. Alle Kurse der Volkshochschule finden Sie hier >>HIER KLICKEN<<
URL:https://nachhaltigkeitsagenda-ingolstadt.de/event/klima-am-mittag-klimafreundlich-gaertnern/
LOCATION:Umweltstation\, Ludwigstraße 41\, Ingolstadt\, Bayern\, 85049\, Deutschland
CATEGORIES:Weitere Veranstaltungen
ATTACH;FMTTYPE=image/jpeg:https://nachhaltigkeitsagenda-ingolstadt.de/wp-content/uploads/2024/10/Klima-am-Mittag.jpg
ORGANIZER;CN="Stabsstelle Klima":MAILTO:stabsstelle.klima@ingolstadt.de
END:VEVENT
END:VCALENDAR