BEGIN:VCALENDAR
VERSION:2.0
PRODID:-//Nachhaltigkeitsagenda Ingolstadt - ECPv6.15.20//NONSGML v1.0//EN
CALSCALE:GREGORIAN
METHOD:PUBLISH
X-WR-CALNAME:Nachhaltigkeitsagenda Ingolstadt
X-ORIGINAL-URL:https://nachhaltigkeitsagenda-ingolstadt.de
X-WR-CALDESC:Veranstaltungen für Nachhaltigkeitsagenda Ingolstadt
REFRESH-INTERVAL;VALUE=DURATION:PT1H
X-Robots-Tag:noindex
X-PUBLISHED-TTL:PT1H
BEGIN:VTIMEZONE
TZID:Europe/Berlin
BEGIN:DAYLIGHT
TZOFFSETFROM:+0100
TZOFFSETTO:+0200
TZNAME:CEST
DTSTART:20240331T010000
END:DAYLIGHT
BEGIN:STANDARD
TZOFFSETFROM:+0200
TZOFFSETTO:+0100
TZNAME:CET
DTSTART:20241027T010000
END:STANDARD
BEGIN:DAYLIGHT
TZOFFSETFROM:+0100
TZOFFSETTO:+0200
TZNAME:CEST
DTSTART:20250330T010000
END:DAYLIGHT
BEGIN:STANDARD
TZOFFSETFROM:+0200
TZOFFSETTO:+0100
TZNAME:CET
DTSTART:20251026T010000
END:STANDARD
BEGIN:DAYLIGHT
TZOFFSETFROM:+0100
TZOFFSETTO:+0200
TZNAME:CEST
DTSTART:20260329T010000
END:DAYLIGHT
BEGIN:STANDARD
TZOFFSETFROM:+0200
TZOFFSETTO:+0100
TZNAME:CET
DTSTART:20261025T010000
END:STANDARD
END:VTIMEZONE
BEGIN:VEVENT
DTSTART;TZID=Europe/Berlin:20251011T090000
DTEND;TZID=Europe/Berlin:20251011T160000
DTSTAMP:20260423T122207
CREATED:20250923T062905Z
LAST-MODIFIED:20250923T062909Z
UID:12679-1760173200-1760198400@nachhaltigkeitsagenda-ingolstadt.de
SUMMARY:Barcamp Ingolstadt
DESCRIPTION:Barcamp Ingolstadt am 11. Oktober 2025 in Ingolstadt\nMit den Sichten „Wir“\, „Gesellschaft“ und „Region“\, „Ich“\, wollen die Initiatoren des Barcamps in diesen herausfordernden Zeiten einen inspirierenden Rahmen zum Austausch bieten. Jeder ist dazu herzlich eingeladen: Bürger und Bürgerinnen\, z.B. ehrenamtlich Aktive\, Kreative\, Gründer/-innen\, Studierende\, Berufstätige\, Vertreter der Stadt und der Hochschulen. Die zentrale Intention des Mottos ist\, zusammen mit ganz verschiedenen Menschen aus der Region zu überlegen\, wie wir noch Ingolstadt attraktiver machen können und wir alle im Kleinen auch aktiv dazu etwas beitragen können. Zu Beginn wird Prof. Dr. Julia Blasch einen kurzen Impuls unter dem Titel „Ich gegen den Rest der Welt – Was kann ich für meine regionale Umwelt tun?“ geben. \nWann: 11. Oktober 2025\, 9-16 Uhr \nWo: Gebäude G\, an der THI \n  \n			\n				Mehr Informationen und Tickets
URL:https://nachhaltigkeitsagenda-ingolstadt.de/event/barcamp-ingolstadt/
LOCATION:Bayern
CATEGORIES:Weitere Veranstaltungen
ATTACH;FMTTYPE=image/png:https://nachhaltigkeitsagenda-ingolstadt.de/wp-content/uploads/2025/09/2.png
END:VEVENT
BEGIN:VEVENT
DTSTART;TZID=Europe/Berlin:20251011T103000
DTEND;TZID=Europe/Berlin:20251011T160000
DTSTAMP:20260423T122207
CREATED:20250926T085944Z
LAST-MODIFIED:20251006T071241Z
UID:12693-1760178600-1760198400@nachhaltigkeitsagenda-ingolstadt.de
SUMMARY:Weltmädchentag\, Ingolstadt
DESCRIPTION:Weltmädchentag\, am 11. Oktober 2025 in Ingolstadt\nWeltmädchentag am 11.Oktober 2025: Bunter Aktionstag auf dem Rathausplatz \nExperimentieren\, Radeln\, Kreativ werden für Mädchenrechte weltweit \n Auf Initiative von Plan International haben die Vereinten Nationen einen Weltmädchentag eingerichtet\, der jährlich am 11. Oktober begangen wird. Seitdem hat sich der Tag zu einem kraftvollen Symbol für die Förderung der Rechte von Mädchen und jungen Frauen weltweit entwickelt. \nDie lokale Aktionsgruppe von PLAN International\, die Gleichstellungsstelle der Stadt Ingolstadt sowie zahlreiche Mitwirkende aus der Region machen sich wieder stark für die Zukunft von Mädchen. Nach der tollen Resonanz vom vergangenen Jahr lädt die Gruppe zum zweiten Mal zusammen mit allen Beitragenden zu einem bunten Programm rund um Berufsorientierung\, spannende Mitmachaktionen\, Kreativität und Empowerment ein. Die Besucher/-innen dürfen sich auf Tanzaufführungen\, Werkbänke zum Tüfteln\, Ballspiele\, leckere Snacks sowie Getränke freuen. \nWann:   11. Oktober\, 10:30 bis 16 Uhr\, Eröffnungsrede um 11.30 Uhr \nWo:        Rathausplatz\, 85049 Ingolstadt \nWas:      Infostände und Mitmachaktionen \nEintritt frei! \nAnja Assenbaum\, Gleichstellungsbeauftragte der Stadt Ingolstadt\, wird  zur Bedeutung der Gleichberechtigung von Mädchen und Frauen sprechen. Die Plan Aktionsgruppe zeigt sich hocherfreut über das große Interesse in der Planung und Organisation des Aktionstages sowie die gewachsene starke Vernetzung mit lokalen Partnern\, Organisationen und Unternehmen. Karin Kaufmann von der Plan Aktionsgruppe Ingolstadt hebt hervor: „Es erfüllt mich mit Freude\, zu sehen\, dass wir alle dasselbe Ziel verfolgen und gemeinsam zu einem starken Netzwerk heranwachsen\, das Mädchen und junge Frauen ermutigt\, ihren eigenen Weg zu gehen und ihre Potenziale zu entfalten. “Das besondere Thema dieses Jahr: Frühe Heirat oder Zwangsheirat. In diesem Jahr steht das Thema Frühverheiratung im Fokus. Weltweit sind mehr als 640 Millionen Mädchen von Frühverheiratung betroffen. Fast jedes 5. Mädchen wird vor seinem 18. Geburtstag verheiratet. Das sind durchschnittlich 22 Mädchen pro Minute. Für sie endet die Kindheit abrupt: Viele müssen die Schule abbrechen. Frühe Schwangerschaften und lebenslange Abhängigkeit sind häufige Folgen. Besonders in Krisenregionen verschärfen Armut\, Gewalt und fehlende Bildung den Teufelskreis der Frühverheiratung. Dabei handelt es sich um eine gravierende Menschenrechtsverletzung. Für die betroffenen Mädchen und Jungen bedeutet eine Heirat das Ende ihrer Kindheit. Es zwingt sie\, Rollen und Aufgaben zu übernehmen\, denen sie weder körperlich noch emotional gewachsen sind. Mädchen sind stark und können viel erreichen. Dennoch werden viele von ihnen aufgrund von Ungleichheiten daran gehindert\, ihre Rechte wahrzunehmen. Barrieren wie Kinderehen\, frühe Schwangerschaften und sexuelle Gewalt\, erschweren den Zugang zu Bildung und verhindern ein selbstbestimmtes Leben. Krisen und Katastrophen verstärken geschlechtsspezifische Diskriminierungen\, denen Mädchen und junge Frauen ausgesetzt sind. Plan International setzt sich dafür ein\, diesen Kreislauf zu durchbrechen – mit Bildungsprogrammen\, Aufklärung vor Ort und gezielter Unterstützung betroffener Mädchen. \nPlan International ist eine unabhängige Organisation der Entwicklungszusammenarbeit und humanitären Hilfe. Mädchen und Jungen sollen weltweit die gleichen Rechte und Chancen haben und ihre Zukunft aktiv gestalten. Um das zu erreichen\, setzen wir in unseren Partnerländern effizient und transparent Projekte zur nachhaltigen Gemeindeentwicklung um und reagieren schnell auf Notlagen und Katastrophen\, die das Leben von Kindern bedrohen. In mehr als 75 Ländern arbeiten wir Hand in Hand mit Kindern\, Jugendlichen\, Unterstützenden und Partnern jeden Geschlechts\, um unsere globalen Ziele zu erreichen. Die nachhaltigen Entwicklungsziele der Vereinten Nationen bestärken uns in unserem Engagement. \n			\n				Mehr Informationen zur Plan-Aktionsgruppe
URL:https://nachhaltigkeitsagenda-ingolstadt.de/event/weltmaedchentag-ingolstadt/
LOCATION:Bayern
CATEGORIES:Weitere Veranstaltungen
ATTACH;FMTTYPE=image/png:https://nachhaltigkeitsagenda-ingolstadt.de/wp-content/uploads/2025/10/1.png
END:VEVENT
END:VCALENDAR