BEGIN:VCALENDAR
VERSION:2.0
PRODID:-//Nachhaltigkeitsagenda Ingolstadt - ECPv6.15.20//NONSGML v1.0//EN
CALSCALE:GREGORIAN
METHOD:PUBLISH
X-ORIGINAL-URL:https://nachhaltigkeitsagenda-ingolstadt.de
X-WR-CALDESC:Veranstaltungen für Nachhaltigkeitsagenda Ingolstadt
REFRESH-INTERVAL;VALUE=DURATION:PT1H
X-Robots-Tag:noindex
X-PUBLISHED-TTL:PT1H
BEGIN:VTIMEZONE
TZID:Europe/Berlin
BEGIN:DAYLIGHT
TZOFFSETFROM:+0100
TZOFFSETTO:+0200
TZNAME:CEST
DTSTART:20250330T010000
END:DAYLIGHT
BEGIN:STANDARD
TZOFFSETFROM:+0200
TZOFFSETTO:+0100
TZNAME:CET
DTSTART:20251026T010000
END:STANDARD
BEGIN:DAYLIGHT
TZOFFSETFROM:+0100
TZOFFSETTO:+0200
TZNAME:CEST
DTSTART:20260329T010000
END:DAYLIGHT
BEGIN:STANDARD
TZOFFSETFROM:+0200
TZOFFSETTO:+0100
TZNAME:CET
DTSTART:20261025T010000
END:STANDARD
BEGIN:DAYLIGHT
TZOFFSETFROM:+0100
TZOFFSETTO:+0200
TZNAME:CEST
DTSTART:20270328T010000
END:DAYLIGHT
BEGIN:STANDARD
TZOFFSETFROM:+0200
TZOFFSETTO:+0100
TZNAME:CET
DTSTART:20271031T010000
END:STANDARD
END:VTIMEZONE
BEGIN:VEVENT
DTSTART;TZID=Europe/Berlin:20260118T170000
DTEND;TZID=Europe/Berlin:20260118T200000
DTSTAMP:20260423T121355
CREATED:20251216T151633Z
LAST-MODIFIED:20251216T151638Z
UID:12776-1768755600-1768766400@nachhaltigkeitsagenda-ingolstadt.de
SUMMARY:Nachhaltigkeit im eigenen Garten: Vortrag zu samenfestem Saatgut mit Tauschbörse
DESCRIPTION:Nachhaltigkeit im eigenen Garten: Vortrag zu samenfestem Saatgut mit Tauschbörse \nAm Sonntag\, den 18. Januar ab 17 Uhr dreht sich im Bürgerhaus Neuburger Kasten (Raum 24 im zweiten Stock) alles um das Thema samenfestes Saatgut\, also alte Obst- und Gemüsesorten. In dem interessanten Vortrag geht es um die Themen\, warum die alten Sorten so wichtig für unsere Kultur und Ernährung sind. Die Referentin geht darauf ein\, warum alte Sorten nicht nur geschmacklich\, sondern auch ökologisch wertvoll sind. Der Unterschied zwischen samenfestem Saatgut und Hybridsaatgut wird erklärt. Obst- und Gemüsesorten\, die in Vergessenheit geraten sind\, werden vorgestellt und praktische Tipps zum eigenen Anbau gegeben. Anschließend gibt es die Möglichkeit zum Tausch von Saatgut oder Erwerb gegen eine Spende für den Naturschutz\, (wer keines zum Tauschen hat\, kann dann welches erwerben). Das Saatgut ist an das lokale Klima optimal angepasst und eine echte Bereicherung für jeden Hobbygärtner. Für Gartenliebhaber\, Interessierte am Thema Nachhaltigkeit oder einfach aus Neugierde\, der Vortag ist für alle\, die die Vielfalt der Natur schätzen. Der Eintritt ist frei\, eine Anmeldung ist im Bürgerhaus unter 0841/305-50031 oder per Mail unter buergerhaus@ingolstadt.de erforderlich. \n			\n				Mehr Informationen
URL:https://nachhaltigkeitsagenda-ingolstadt.de/event/nachhaltigkeit-im-eigenen-garten-vortrag-zu-samenfestem-saatgut-mit-tauschboerse/
LOCATION:Bürgerhaus – Neuburger Kasten\, Fechtgasse 6\, Ingolstadt\, Bayern\, 85049\, Deutschland
CATEGORIES:Weitere Veranstaltungen
ATTACH;FMTTYPE=image/png:https://nachhaltigkeitsagenda-ingolstadt.de/wp-content/uploads/2025/12/Samenfestes-Saatgut.png
ORGANIZER;CN="B%C3%BCrgerhaus - Neuburger Kasten":MAILTO:buergerhaus@ingolstadt.de
END:VEVENT
END:VCALENDAR