BEGIN:VCALENDAR
VERSION:2.0
PRODID:-//Nachhaltigkeitsagenda Ingolstadt - ECPv6.15.20//NONSGML v1.0//EN
CALSCALE:GREGORIAN
METHOD:PUBLISH
X-WR-CALNAME:Nachhaltigkeitsagenda Ingolstadt
X-ORIGINAL-URL:https://nachhaltigkeitsagenda-ingolstadt.de
X-WR-CALDESC:Veranstaltungen für Nachhaltigkeitsagenda Ingolstadt
REFRESH-INTERVAL;VALUE=DURATION:PT1H
X-Robots-Tag:noindex
X-PUBLISHED-TTL:PT1H
BEGIN:VTIMEZONE
TZID:Europe/Berlin
BEGIN:DAYLIGHT
TZOFFSETFROM:+0100
TZOFFSETTO:+0200
TZNAME:CEST
DTSTART:20250330T010000
END:DAYLIGHT
BEGIN:STANDARD
TZOFFSETFROM:+0200
TZOFFSETTO:+0100
TZNAME:CET
DTSTART:20251026T010000
END:STANDARD
BEGIN:DAYLIGHT
TZOFFSETFROM:+0100
TZOFFSETTO:+0200
TZNAME:CEST
DTSTART:20260329T010000
END:DAYLIGHT
BEGIN:STANDARD
TZOFFSETFROM:+0200
TZOFFSETTO:+0100
TZNAME:CET
DTSTART:20261025T010000
END:STANDARD
BEGIN:DAYLIGHT
TZOFFSETFROM:+0100
TZOFFSETTO:+0200
TZNAME:CEST
DTSTART:20270328T010000
END:DAYLIGHT
BEGIN:STANDARD
TZOFFSETFROM:+0200
TZOFFSETTO:+0100
TZNAME:CET
DTSTART:20271031T010000
END:STANDARD
END:VTIMEZONE
BEGIN:VEVENT
DTSTART;VALUE=DATE:20260421
DTEND;VALUE=DATE:20260520
DTSTAMP:20260421T160738
CREATED:20260420T085533Z
LAST-MODIFIED:20260420T085538Z
UID:12909-1776729600-1779235199@nachhaltigkeitsagenda-ingolstadt.de
SUMMARY:Neuburger Nachhaltigkeits-Gespräche
DESCRIPTION: \n\n\nNEUBURGERNACHHALTIGKEITSGESPRÄCHE\n\nam Campus Neuburg\, jeweils Dienstag 18.30 – 20.00 Uhr.Im Gespräch mit inspirierenden Gästen aus der Region stellen Forschende der THI ihre Arbeit vor. Erfahren Sie in spannenden Gesprächsrunden mehr über aktuelle Nachhaltigkeitsthemen:in der Region\, am THI Campus Neuburg und darüber hinaus. \n  \n  \n\n\n\n			\n				Zur Veranstaltungsseite der THI\n			\n			\n				\n				\n				\n				\n				\n				\n				\n				\n				\n				\n			\n				\n				\n				\n				\n				 \n© Technische Hochschule
URL:https://nachhaltigkeitsagenda-ingolstadt.de/event/neuburger-nachhaltigkeits-gespraeche/
LOCATION:Campus Neuburg (THI)\, An der Hochschule B 1\, Neuburg an der Donau\, Bayern\, 86633\, Deutschland
CATEGORIES:Weitere Veranstaltungen
ATTACH;FMTTYPE=image/jpeg:https://nachhaltigkeitsagenda-ingolstadt.de/wp-content/uploads/2026/04/2026-03-31_09-40-01-flyer_neuburger_nachhaltigkeitsgespraeche_2026_page-0001.jpg
END:VEVENT
END:VCALENDAR